BEGIN:VCALENDAR
VERSION:2.0
PRODID:-//National Military Vehicle Museum - ECPv4.8.1//NONSGML v1.0//EN
CALSCALE:GREGORIAN
METHOD:PUBLISH
X-WR-CALNAME:National Military Vehicle Museum
X-ORIGINAL-URL:http://www.military-vehicle-museum.org.au
X-WR-CALDESC:Events for National Military Vehicle Museum
BEGIN:VEVENT
DTSTART;TZID=UTC+9.5:20190127T100000
DTEND;TZID=UTC+9.5:20190127T160000
DTSTAMP:20190228T133141
CREATED:20140806T013539Z
LAST-MODIFIED:20140806T013539Z
UID:3114-1548583200-1548604800@www.military-vehicle-museum.org.au
SUMMARY:Museum Open
DESCRIPTION:The museum is open every Sunday and Public Holiday from 10:00 AM to 4:00 PM\, with the exception of Good Friday and Christmas Day. The museum can also be opened at any time\, by arrangement\, for group bookings. \n\n\n\n\n
URL:http://www.military-vehicle-museum.org.au/event/museum-open/2019-01-27/
LOCATION:National Military Vehicle Museum\, 10 Sturton Road\, Edinburgh Parks\, South Australia\, 5111\, Australia
GEO:-34.7185389;138.6288642
X-APPLE-STRUCTURED-LOCATION;VALUE=URI;X-ADDRESS=National Military Vehicle Museum 10 Sturton Road Edinburgh Parks South Australia 5111 Australia;X-APPLE-RADIUS=500;X-TITLE=10 Sturton Road:geo:138.6288642,-34.7185389
END:VEVENT
BEGIN:VEVENT
DTSTART;TZID=UTC+9.5:20190203T100000
DTEND;TZID=UTC+9.5:20190203T160000
DTSTAMP:20190228T133141
CREATED:20140806T013539Z
LAST-MODIFIED:20140806T013539Z
UID:3116-1549188000-1549209600@www.military-vehicle-museum.org.au
SUMMARY:Museum Open
DESCRIPTION:The museum is open every Sunday and Public Holiday from 10:00 AM to 4:00 PM\, with the exception of Good Friday and Christmas Day. The museum can also be opened at any time\, by arrangement\, for group bookings. \n\n\n\n\n
URL:http://www.military-vehicle-museum.org.au/event/museum-open/2019-02-03/
LOCATION:National Military Vehicle Museum\, 10 Sturton Road\, Edinburgh Parks\, South Australia\, 5111\, Australia
GEO:-34.7185389;138.6288642
X-APPLE-STRUCTURED-LOCATION;VALUE=URI;X-ADDRESS=National Military Vehicle Museum 10 Sturton Road Edinburgh Parks South Australia 5111 Australia;X-APPLE-RADIUS=500;X-TITLE=10 Sturton Road:geo:138.6288642,-34.7185389
END:VEVENT
BEGIN:VEVENT
DTSTART;TZID=UTC+9.5:20190210T100000
DTEND;TZID=UTC+9.5:20190210T160000
DTSTAMP:20190228T133141
CREATED:20140806T013539Z
LAST-MODIFIED:20140806T013539Z
UID:3117-1549792800-1549814400@www.military-vehicle-museum.org.au
SUMMARY:Museum Open
DESCRIPTION:The museum is open every Sunday and Public Holiday from 10:00 AM to 4:00 PM\, with the exception of Good Friday and Christmas Day. The museum can also be opened at any time\, by arrangement\, for group bookings. \n\n\n\n\n
URL:http://www.military-vehicle-museum.org.au/event/museum-open/2019-02-10/
LOCATION:National Military Vehicle Museum\, 10 Sturton Road\, Edinburgh Parks\, South Australia\, 5111\, Australia
GEO:-34.7185389;138.6288642
X-APPLE-STRUCTURED-LOCATION;VALUE=URI;X-ADDRESS=National Military Vehicle Museum 10 Sturton Road Edinburgh Parks South Australia 5111 Australia;X-APPLE-RADIUS=500;X-TITLE=10 Sturton Road:geo:138.6288642,-34.7185389
END:VEVENT
BEGIN:VEVENT
DTSTART;TZID=UTC+9.5:20190217T100000
DTEND;TZID=UTC+9.5:20190217T160000
DTSTAMP:20190228T133141
CREATED:20140806T013539Z
LAST-MODIFIED:20140806T013539Z
UID:3118-1550397600-1550419200@www.military-vehicle-museum.org.au
SUMMARY:Museum Open
DESCRIPTION:The museum is open every Sunday and Public Holiday from 10:00 AM to 4:00 PM\, with the exception of Good Friday and Christmas Day. The museum can also be opened at any time\, by arrangement\, for group bookings. \n\n\n\n\n
URL:http://www.military-vehicle-museum.org.au/event/museum-open/2019-02-17/
LOCATION:National Military Vehicle Museum\, 10 Sturton Road\, Edinburgh Parks\, South Australia\, 5111\, Australia
GEO:-34.7185389;138.6288642
X-APPLE-STRUCTURED-LOCATION;VALUE=URI;X-ADDRESS=National Military Vehicle Museum 10 Sturton Road Edinburgh Parks South Australia 5111 Australia;X-APPLE-RADIUS=500;X-TITLE=10 Sturton Road:geo:138.6288642,-34.7185389
END:VEVENT
BEGIN:VEVENT
DTSTART;TZID=UTC+9.5:20190224T100000
DTEND;TZID=UTC+9.5:20190224T160000
DTSTAMP:20190228T133141
CREATED:20140806T013539Z
LAST-MODIFIED:20140806T013539Z
UID:3119-1551002400-1551024000@www.military-vehicle-museum.org.au
SUMMARY:Museum Open
DESCRIPTION:The museum is open every Sunday and Public Holiday from 10:00 AM to 4:00 PM\, with the exception of Good Friday and Christmas Day. The museum can also be opened at any time\, by arrangement\, for group bookings. \n\n\n\n\n
URL:http://www.military-vehicle-museum.org.au/event/museum-open/2019-02-24/
LOCATION:National Military Vehicle Museum\, 10 Sturton Road\, Edinburgh Parks\, South Australia\, 5111\, Australia
GEO:-34.7185389;138.6288642
X-APPLE-STRUCTURED-LOCATION;VALUE=URI;X-ADDRESS=National Military Vehicle Museum 10 Sturton Road Edinburgh Parks South Australia 5111 Australia;X-APPLE-RADIUS=500;X-TITLE=10 Sturton Road:geo:138.6288642,-34.7185389
END:VEVENT
END:VCALENDAR